View In:
ArcGIS JavaScript
ArcGIS Online Map Viewer
ArcGIS Earth
ArcMap
ArcGIS Pro
View Footprint In:
ArcGIS Online Map Viewer
Service Description: Kortið sýnir berggrunn landsins, bergtegundir og aldur bergs. Það dregur fram stærstu drættina í jarðfræðinni og á hvaða jarðsöguskeiðum hinir ýmsu hlutar berggrunnsins mynduðust. Kortið er í unnið samræmi við nýjar alþjóðlegar skilgreiningar á skiptingu jarðsöguskeiða sem gengu í gildi 2012.
Móbergsmyndunum gosbeltanna er skipt upp í aldursflokka, þ.e. ungt móberg frá síðasta jökulskeiði og eldra móberg. Hin eldvirku svæði sjást vel og dreifing gosstöðva sem og nákvæmar útlínur hrauna. Þeim er skipt upp í söguleg hraun, forsöguleg hraun frá hólósen (nútíma) og hraun frá síðjökultíma.
Helstu jarðhitastaðir eru sýndir, einnig sprungur og misgengi, virkar og óvirkar megineldstöðvar, öskjur og margt annað.
Ferkari upplýsingar og aðgengi á að kortinu og gögum má fá í með því að senda tölvupóst á
[email protected]
Map Name: Layers
Legend
All Layers and Tables
Dynamic Legend
Dynamic All Layers
Layers:
Description:
Copyright Text: Árni Hjartarson og Kristján Sæmundsson (2014). Berggrunnskort af Íslandi, 1:600 000. Reykjavík: Íslenskar orkurannsóknir.
Spatial Reference:
102100
(3857)
Single Fused Map Cache: true
Tile Info:
- Height: 256
- Width: 256
- DPI: 96
-
Levels of Detail: 24
-
Level ID: 0
[ Start Tile, End Tile ]
- Resolution: 156543.03392800014
- Scale: 5.91657527591555E8
-
Level ID: 1
[ Start Tile, End Tile ]
- Resolution: 78271.51696399994
- Scale: 2.95828763795777E8
-
Level ID: 2
[ Start Tile, End Tile ]
- Resolution: 39135.75848200009
- Scale: 1.47914381897889E8
-
Level ID: 3
[ Start Tile, End Tile ]
- Resolution: 19567.87924099992
- Scale: 7.3957190948944E7
-
Level ID: 4
[ Start Tile, End Tile ]
- Resolution: 9783.93962049996
- Scale: 3.6978595474472E7
-
Level ID: 5
[ Start Tile, End Tile ]
- Resolution: 4891.96981024998
- Scale: 1.8489297737236E7
- Format: PNG
- Compression Quality: 0.0
- Origin: X: -2.0037508342787E7
Y: 2.0037508342787E7
- Spatial Reference: 102100
(3857)
Initial Extent:
XMin: -2667102.9292423422
YMin: 9502592.327313911
XMax: -1301056.4471493769
YMax: 1.0085999744128745E7
Spatial Reference: 102100
Full Extent:
XMin: -2755599.5911633675
YMin: 9151541.527543494
XMax: -1445982.5469646533
YMax: 1.004672169760863E7
Spatial Reference: 102100
Units: esriMeters
Supported Image Format Types: PNG32,PNG24,PNG,JPG,DIB,TIFF,EMF,PS,PDF,GIF,SVG,SVGZ,BMP
Document Info:
Title:
Author:
Comments: Kortið sýnir berggrunn landsins, bergtegundir og aldur bergs. Það dregur fram stærstu drættina í jarðfræðinni og á hvaða jarðsöguskeiðum hinir ýmsu hlutar berggrunnsins mynduðust. Kortið er í unnið samræmi við nýjar alþjóðlegar skilgreiningar á skiptingu jarðsöguskeiða sem gengu í gildi 2012. Móbergsmyndunum gosbeltanna er skipt upp í aldursflokka, þ.e. ungt móberg frá síðasta jökulskeiði og eldra móberg. Hin eldvirku svæði sjást vel og dreifing gosstöðva sem og nákvæmar útlínur hrauna. Þeim er skipt upp í söguleg hraun, forsöguleg hraun frá hólósen (nútíma) og hraun frá síðjökultíma.
Helstu jarðhitastaðir eru sýndir, einnig sprungur og misgengi, virkar og óvirkar megineldstöðvar, öskjur og margt annað.
Ferkari upplýsingar og aðgengi á að kortinu og gögum má fá í með því að senda tölvupóst á [email protected]
Subject: Berggrunnskort af Íslandi 1:600 000
Árni Hjartarson og Kristján Sæmundsson (2014). Berggrunnskort af Íslandi, 1:600 000. Reykjavík: Íslenskar orkurannsóknir.
Category:
Keywords: Jarðfræðikort; ÍSOR; 1:600.000;
AntialiasingMode: None
TextAntialiasingMode: Force
Supports Dynamic Layers: true
Resampling: false
MaxRecordCount: 1000
MaxImageHeight: 4096
MaxImageWidth: 4096
Supported Query Formats: JSON, geoJSON
Supports Query Data Elements:
Min Scale: 4622324.434309
Max Scale: 144447.638572
Min LOD: 7
Max LOD: 12
Supports Datum Transformation: true
Child Resources:
Info
Dynamic Layer
Supported Operations:
Export Map
Identify
QueryLegends
QueryDomains
Find
Return Updates