View In:
ArcGIS JavaScript
ArcGIS Online Map Viewer
ArcGIS Earth
ArcMap
ArcGIS Pro
View Footprint In:
ArcGIS Online Map Viewer
Service Description: Þessi gögn sýna
botngerð en þau voru tekin saman í Emodnet verkefninu. Helsti tilgangur EMODnet-verkefnisins
http://www.emodnet.eu er að draga saman og samræma rannsóknargögn og gera gögnin aðgengileg jafnt fyrir einstaklinga sem og opinbera aðila á rafrænu formi.
ÍSOR kemur að jarðfræðihluta verkefnisins en ögnum um jarðfræði er einkum aflað úr gagnabönkum, af kortum eða öðrum myndrænum gögnum.
Í EMODnet-verkefninu vinnur ÍSOR að
-botngerðarkorti
-berggrunnskorti hafsbotnsins
-upplýsingum um setmyndunarhraða
-jarðlagafræði
-strandhegðun
-jarðefni á hafsbotni
-vákort hafsbotns
Map Name: Layers
Legend
All Layers and Tables
Dynamic Legend
Dynamic All Layers
Layers:
Description:
Copyright Text: ÍSOR 2013-2022
Spatial Reference:
102100
(3857)
Single Fused Map Cache: true
Tile Info:
- Height: 256
- Width: 256
- DPI: 96
-
Levels of Detail: 24
-
Level ID: 0
[ Start Tile, End Tile ]
- Resolution: 156543.03392800014
- Scale: 5.91657527591555E8
-
Level ID: 1
[ Start Tile, End Tile ]
- Resolution: 78271.51696399994
- Scale: 2.95828763795777E8
-
Level ID: 2
[ Start Tile, End Tile ]
- Resolution: 39135.75848200009
- Scale: 1.47914381897889E8
-
Level ID: 3
[ Start Tile, End Tile ]
- Resolution: 19567.87924099992
- Scale: 7.3957190948944E7
-
Level ID: 4
[ Start Tile, End Tile ]
- Resolution: 9783.93962049996
- Scale: 3.6978595474472E7
-
Level ID: 5
[ Start Tile, End Tile ]
- Resolution: 4891.96981024998
- Scale: 1.8489297737236E7
- Format: PNG
- Compression Quality: 0.0
- Origin: X: -2.0037508342787E7
Y: 2.0037508342787E7
- Spatial Reference: 102100
(3857)
Initial Extent:
XMin: -5824100.414888229
YMin: 7704884.922046936
XMax: 1943467.8738288488
YMax: 1.225505192314621E7
Spatial Reference: 102100
Full Extent:
XMin: -3438263.6346072117
YMin: 8289692.17881426
XMax: -621025.80214562
YMax: 1.0934434646984357E7
Spatial Reference: 102100
Units: esriMeters
Supported Image Format Types: PNG32,PNG24,PNG,JPG,DIB,TIFF,EMF,PS,PDF,GIF,SVG,SVGZ,BMP
Document Info:
Title:
Author:
Comments:
Subject:
Category:
Keywords: EMODNET; Iceland; North Atlantic; ÍSOR;
AntialiasingMode: None
TextAntialiasingMode: Force
Supports Dynamic Layers: true
Resampling: false
MaxRecordCount: 1000
MaxImageHeight: 4096
MaxImageWidth: 4096
Supported Query Formats: JSON, geoJSON
Supports Query Data Elements:
Min Scale: 7.3957190948944E7
Max Scale: 144447.638572
Min LOD: 3
Max LOD: 12
Supports Datum Transformation: true
Child Resources:
Info
Dynamic Layer
Supported Operations:
Export Map
Identify
QueryLegends
QueryDomains
Find
Return Updates